BEGIN:VCALENDAR
PRODID:-//github.com/ical-org/ical.net//NONSGML ical.net 4.0//EN
VERSION:2.0
BEGIN:VEVENT
DESCRIPTION: Általános\, és középiskolai diákok számára.
DTEND:20260627T160000Z
DTSTAMP:20260425T162808Z
DTSTART:20260627T100000Z
GEO:46.822762;16.830954
LOCATION:Apáczai AMK\nZalaegerszeg\, Apáczai Csere János tér 5
SEQUENCE:0
SUMMARY:Student Combat Games
UID:f11d2bf9-0654-4abc-9413-48be5b2331fb
END:VEVENT
END:VCALENDAR
