BEGIN:VCALENDAR
PRODID:-//github.com/ical-org/ical.net//NONSGML ical.net 4.0//EN
VERSION:2.0
BEGIN:VEVENT
DESCRIPTION:Kangatraining foglalkozás Sármelléken. Helyszín: 8391 Sármellé
 k\, Dózsa Gy. u. 348. (Egészségház - VitálPont)
DTEND:20261230T230000Z
DTSTAMP:20260420T174628Z
DTSTART:20260331T220000Z
GEO:46.716928;17.170461
LOCATION:Sármellék\nSármellék
SEQUENCE:0
SUMMARY:Kangatraining
UID:6ebf3d06-3dc2-4fa5-8167-32d9a5d6c287
END:VEVENT
END:VCALENDAR
