BEGIN:VCALENDAR
PRODID:-//github.com/ical-org/ical.net//NONSGML ical.net 4.0//EN
VERSION:2.0
BEGIN:VEVENT
DESCRIPTION:Jóga foglalkozás Sármelléken. Helyszín: 8391 Sármellék\, Dózsa
  Gy. u. 348. (Egészségház - VitálPont)
DTEND:20261230T230000Z
DTSTAMP:20260420T174643Z
DTSTART:20260331T220000Z
GEO:46.716928;17.170461
LOCATION:Sármellék\nSármellék
SEQUENCE:0
SUMMARY:Jóga
UID:a7ecebae-48a8-425e-a2f3-5053e932202f
END:VEVENT
END:VCALENDAR
