BEGIN:VCALENDAR
PRODID:-//github.com/ical-org/ical.net//NONSGML ical.net 4.0//EN
VERSION:2.0
BEGIN:VEVENT
DESCRIPTION:Próbáld ki\, válaszd ki\, és vidd haza azonnal! Prémium e-bike
  vásár Veszprémben\, október 25-én\, szuper árakkal.
DTEND:20251025T160000Z
DTSTAMP:20260420T134215Z
DTSTART:20251025T070000Z
GEO:47.097577;17.927151
LOCATION:Balaton Bike Store\nVeszprém\, Vilonyai u. 1
SEQUENCE:0
SUMMARY:III. BBT PopUp Bike Outlet: Használt eBike vásár Veszprémben!
UID:5b7d8fb3-bf83-41bc-a086-59b551aa8ff2
END:VEVENT
END:VCALENDAR
