BEGIN:VCALENDAR
PRODID:-//github.com/ical-org/ical.net//NONSGML ical.net 4.0//EN
VERSION:2.0
BEGIN:VEVENT
DESCRIPTION:Jótékonysági futás a Bébi Koraszülött Mentő Alapítvány támogat
 ásáért.
DTEND:20260315T110000Z
DTSTAMP:20260423T083018Z
DTSTART:20260315T080000Z
SEQUENCE:0
SUMMARY:II. Jótékonysági Kokárdás Futás
UID:ec9fa2a7-76c4-46c7-bc50-72ef44205b46
END:VEVENT
END:VCALENDAR
