BEGIN:VCALENDAR
PRODID:-//github.com/ical-org/ical.net//NONSGML ical.net 4.0//EN
VERSION:2.0
BEGIN:VEVENT
DESCRIPTION:Fájdalomenyhítő\, -megelőző gyakorlatok kis csoportban\, heti 
 három alkalommal\, Veszprémben.
DTEND;VALUE=DATE:20260427
DTSTAMP:20260420T175816Z
DTSTART;VALUE=DATE:20260112
GEO:47.093107;17.901638
LOCATION:Mozdulatműhely\nVeszprém\, Dózsa György u. 23
SEQUENCE:0
SUMMARY:Evminov-gerinctorna
UID:85848ba6-f4b6-444e-801a-9eea7b05c30a
END:VEVENT
END:VCALENDAR
