BEGIN:VCALENDAR
PRODID:-//github.com/ical-org/ical.net//NONSGML ical.net 4.0//EN
VERSION:2.0
BEGIN:VEVENT
DESCRIPTION:Kerékpár és kultúra – konferencia a fenntartható élményekért
DTEND;VALUE=DATE:20250926
DTSTAMP:20260421T081152Z
DTSTART;VALUE=DATE:20250924
GEO:46.955635;17.889520
LOCATION:Balatonfüred Kongresszusi Központ\nBalatonfüred\, Huray u. 3
SEQUENCE:0
SUMMARY:EuroVelo és Kerékpáros Turisztikai Konferencia 2025
UID:e9d09aa4-b4a2-45fc-b64f-5f34b867c17e
END:VEVENT
END:VCALENDAR
