BEGIN:VCALENDAR
PRODID:-//github.com/ical-org/ical.net//NONSGML ical.net 4.0//EN
VERSION:2.0
BEGIN:VEVENT
DESCRIPTION:Mozgás\, játék és közösség: csatlakozz az Európai Diáksport Na
 phoz\, és ünnepeld az aktív életet!
DTSTAMP:20260422T095813Z
DTSTART;VALUE=DATE:20260925
GEO:47.102809;17.909302
LOCATION:Országos vagy régiós helyszín\nVeszprém
SEQUENCE:0
SUMMARY:Európai Diáksport Napja 2026
UID:3b094282-fa0b-4228-a11b-85ac291fd5b1
END:VEVENT
END:VCALENDAR
