BEGIN:VCALENDAR
PRODID:-//github.com/ical-org/ical.net//NONSGML ical.net 4.0//EN
VERSION:2.0
BEGIN:VEVENT
DESCRIPTION:Bukfenc Akadémia szervezése a Herend és környékbeli települése
 k (Márkó\, Bánd\, Szentgál) nagycsoportos korosztályú óvodásai részére. A
  cél játékos formában megszerettetni a gyermekekkel a mozgást\, sportot.
DTEND:20260414T093000Z
DTSTAMP:20260420T174749Z
DTSTART:20260414T083000Z
GEO:47.133764;17.742183
LOCATION:Herendi Kenguru Torna Club Sportegyesület \nHerend
SEQUENCE:0
SUMMARY:Bukfenc Akadémia
UID:f3f6bb35-e474-41a8-b501-e36ad09aa3e3
END:VEVENT
END:VCALENDAR
