BEGIN:VCALENDAR
PRODID:-//github.com/ical-org/ical.net//NONSGML ical.net 4.0//EN
VERSION:2.0
BEGIN:VEVENT
DESCRIPTION:Az immerzív pilates egy olyan közösségi mozgásélmény\, ahol a 
 fény\, a hang és a tér együtt segít lelassulni és visszakapcsolódni a tes
 tedhez és a belső egyensúlyodhoz.\nNem csak edzés – egy állapot\, amibe m
 egérkezel.
DTEND:20260525T173000Z
DTSTAMP:20260420T174809Z
DTSTART:20260420T163000Z
SEQUENCE:0
SUMMARY:Body in Light – immerzív pilates
UID:dffb7278-8822-4e79-903a-c25086e10d1d
END:VEVENT
END:VCALENDAR
