BEGIN:VCALENDAR
PRODID:-//github.com/ical-org/ical.net//NONSGML ical.net 4.0//EN
VERSION:2.0
BEGIN:VEVENT
DESCRIPTION:Egész évben elérhető\, játékos és ismeretterjesztő programok B
 adacsonyörsön: arborétumi séta\, felfedező játékok\, kiállítások és esti 
 fényfestés.
DTEND;VALUE=DATE:20270131
DTSTAMP:20260420T175314Z
DTSTART;VALUE=DATE:20260224
SEQUENCE:0
SUMMARY:Állandó programok a Folly Arborétumban
UID:e3bd93ee-8497-4680-9e61-80c7eaf7f64c
END:VEVENT
END:VCALENDAR
