BEGIN:VCALENDAR
PRODID:-//github.com/ical-org/ical.net//NONSGML ical.net 4.0//EN
VERSION:2.0
BEGIN:VEVENT
DESCRIPTION:MMM - azaz Mindenki Mölkky Meccsben. Inklúziós Mölkky Fesztivá
 l\,  ahol Mindenkinek lehet egy jó dobása. Gyere és játssz velünk!
DTEND:20260526T140000Z
DTSTAMP:20260425T164409Z
DTSTART:20260526T080000Z
GEO:46.789736;17.508523
LOCATION:Badacsonyi Sportpályák - pétanque ＆mölkky\nBadacsonytomaj\, Badac
 sony\, Park u. 5
SEQUENCE:0
SUMMARY:Mindenki Mölkky Meccsben
UID:7dadc095-30bb-4ccc-afc5-08c0c2753f93
END:VEVENT
END:VCALENDAR
