BEGIN:VCALENDAR
PRODID:-//github.com/ical-org/ical.net//NONSGML ical.net 4.0//EN
VERSION:2.0
BEGIN:VEVENT
DESCRIPTION:Yoga classes in Sármellék. Location: 348 Dózsa Gy. St.\, Sárme
 llék 8391 (Health Center - VitálPont)
DTEND:20261230T230000Z
DTSTAMP:20260420T162206Z
DTSTART:20260331T220000Z
GEO:46.716928;17.170461
LOCATION:Sármellék\nSármellék
SEQUENCE:0
SUMMARY:Yoga
UID:2b206ec6-3b27-4721-801e-f2d4722ea382
END:VEVENT
END:VCALENDAR
