BEGIN:VCALENDAR
PRODID:-//github.com/ical-org/ical.net//NONSGML ical.net 4.0//EN
VERSION:2.0
BEGIN:VEVENT
DESCRIPTION:Celebrate the spirit of fair play on World Fair Play Day
DTSTAMP:20260422T110626Z
DTSTART;VALUE=DATE:20260519
GEO:47.102809;17.909302
LOCATION:Nationwide or cross-regional location\n
SEQUENCE:0
SUMMARY:World Fair Play Day
UID:46a4a7f1-4580-4160-966f-8ee1fd436059
END:VEVENT
END:VCALENDAR
