BEGIN:VCALENDAR
PRODID:-//github.com/ical-org/ical.net//NONSGML ical.net 4.0//EN
VERSION:2.0
BEGIN:VEVENT
DESCRIPTION:Spinal exercise classes in Sármellék. Location: 348 Dózsa Gy. 
 St.\, Sármellék 8391   (Health Center - VitálPont)
DTEND:20261230T230000Z
DTSTAMP:20260420T162207Z
DTSTART:20260331T220000Z
GEO:46.716928;17.170461
LOCATION:Sármellék\nSármellék
SEQUENCE:0
SUMMARY:Spinal Exercises
UID:e80cd1f3-0d0f-41a9-aa22-907cd7202c1c
END:VEVENT
END:VCALENDAR
