BEGIN:VCALENDAR
PRODID:-//github.com/ical-org/ical.net//NONSGML ical.net 4.0//EN
VERSION:2.0
BEGIN:VEVENT
DESCRIPTION:A charity run in support of Premature Baby Rescue Foundation.
DTEND:20260315T110000Z
DTSTAMP:20260421T095535Z
DTSTART:20260315T080000Z
SEQUENCE:0
SUMMARY:2nd Charity Cockade Run
UID:6e374319-da75-40d9-8b81-7f2e7221b170
END:VEVENT
END:VCALENDAR
