BEGIN:VCALENDAR
PRODID:-//github.com/ical-org/ical.net//NONSGML ical.net 4.0//EN
VERSION:2.0
BEGIN:VEVENT
DESCRIPTION:Join Hungarian Sports Day! Let's remember together the traditi
 ons and community spirit of Hungarian sports.
DTSTAMP:20260422T110922Z
DTSTART;VALUE=DATE:20260506
GEO:47.102809;17.909302
LOCATION:Nationwide or cross-regional location\n
SEQUENCE:0
SUMMARY:Hungarian Sports Day 2026
UID:efb9c77e-e38e-49b7-a448-38ee453de4a3
END:VEVENT
END:VCALENDAR
