BEGIN:VCALENDAR
PRODID:-//github.com/ical-org/ical.net//NONSGML ical.net 4.0//EN
VERSION:2.0
BEGIN:VEVENT
DESCRIPTION:The spring running season is starting: a festival atmosphere a
 nd more distances in Balatonlelle.
DTEND:20260307T143000Z
DTSTAMP:20260421T083831Z
DTSTART:20260307T070000Z
GEO:46.784219;17.696786
LOCATION:Balatonlelle\nBalatonlelle
SEQUENCE:0
SUMMARY:Home Holding – 10th Fuss Neki Running Festival
UID:37c1f5ab-4f51-4cff-8e52-a076769d8199
END:VEVENT
END:VCALENDAR
