BEGIN:VCALENDAR
PRODID:-//github.com/ical-org/ical.net//NONSGML ical.net 4.0//EN
VERSION:2.0
BEGIN:VEVENT
DESCRIPTION:In the village of Bakonynána\, Bakonynána Education\, Culture\
 , and Sports Foundation is offering yoga classes throughout the year to a
 nyone interested as part of the Veszprém Balaton European Region of Sport
  2026 program. The event is free\, but registration is required.
DTEND:20260318T164500Z
DTSTAMP:20260420T190904Z
DTSTART:20260318T154500Z
GEO:47.278684;17.970251
LOCATION:Bakonynána Educational\, Cultural\, and Sports Foundation\nBakony
 nána\, Alkotmány u. 3
SEQUENCE:0
SUMMARY:Get Moving\, Bakonynána! - Yoga Classes
UID:632c64e6-7948-40a4-9859-2b3b52e7c88e
END:VEVENT
END:VCALENDAR
