BEGIN:VCALENDAR
PRODID:-//github.com/ical-org/ical.net//NONSGML ical.net 4.0//EN
VERSION:2.0
BEGIN:VEVENT
DESCRIPTION:In the village of Bakonynána\, Bakonynána Education\, Culture\
 , and Sports Foundation offers year-round sports opportunities for those 
 interested in various sports (volleyball\, soccer\, basketball\, table te
 nnis\, floorball) as part of the Veszprém Balaton European Region of Spor
 t 2026 program.\nLocation: Bakonynána Sports Hall
DTEND:20260331T163000Z
DTSTAMP:20260420T162444Z
DTSTART:20260331T143000Z
GEO:47.278684;17.970251
LOCATION:Bakonynána Educational\, Cultural\, and Sports Foundation\nBakony
 nána\, Alkotmány u. 3
SEQUENCE:0
SUMMARY:Get Moving\, Bakonynána! - Energizing Sports Classes
UID:71004c98-344e-40d8-a040-5433a9354ca3
END:VEVENT
END:VCALENDAR
