BEGIN:VCALENDAR
PRODID:-//github.com/ical-org/ical.net//NONSGML ical.net 4.0//EN
VERSION:2.0
BEGIN:VEVENT
DESCRIPTION:A health mini-roadshow\, spiced up with motivational presentat
 ions by invited active athletes and coaches.
DTEND;VALUE=DATE:20260220
DTSTAMP:20260422T123519Z
DTSTART;VALUE=DATE:20260122
GEO:47.102809;17.909302
LOCATION:Nationwide or cross-regional location\n
SEQUENCE:0
SUMMARY:Free health screenings and motivational sports talks – VB'26
UID:feb44266-6ec3-4cba-b4a5-c1d249d497b9
END:VEVENT
END:VCALENDAR
