BEGIN:VCALENDAR
PRODID:-//github.com/ical-org/ical.net//NONSGML ical.net 4.0//EN
VERSION:2.0
BEGIN:VEVENT
DESCRIPTION:Pain relief and prevention exercises in small groups\, three t
 imes a week\, in Veszprém.
DTEND;VALUE=DATE:20260427
DTSTAMP:20260420T162804Z
DTSTART;VALUE=DATE:20260112
GEO:47.093107;17.901638
LOCATION:Mozdulatműhely\nVeszprém\, Dózsa György u. 23
SEQUENCE:0
SUMMARY:Evminov spine exercise
UID:480ca5be-9e20-4e07-ae8a-c2805faf2d53
END:VEVENT
END:VCALENDAR
