BEGIN:VCALENDAR
PRODID:-//github.com/ical-org/ical.net//NONSGML ical.net 4.0//EN
VERSION:2.0
BEGIN:VEVENT
DESCRIPTION:Bicycles and culture – a conference for sustainable experiences
DTEND;VALUE=DATE:20250926
DTSTAMP:20260421T095400Z
DTSTART;VALUE=DATE:20250924
GEO:46.955635;17.889520
LOCATION:Balatonfüred Congress Center\nBalatonfüred\, Huray u. 3
SEQUENCE:0
SUMMARY:EuroVelo & Cycling Tourism Conference 2025
UID:4135f61b-8bad-4e56-adb9-bb0eac9d988d
END:VEVENT
END:VCALENDAR
