BEGIN:VCALENDAR
PRODID:-//github.com/ical-org/ical.net//NONSGML ical.net 4.0//EN
VERSION:2.0
BEGIN:VEVENT
DESCRIPTION:Movement\, games\, and community: join European School Sport D
 ay and celebrate active living
DTSTAMP:20260422T110725Z
DTSTART;VALUE=DATE:20260925
GEO:47.102809;17.909302
LOCATION:Nationwide or cross-regional location\n
SEQUENCE:0
SUMMARY:European School Sport Day 2026
UID:e80165aa-709b-42e6-b154-3fb9cd054ace
END:VEVENT
END:VCALENDAR
