BEGIN:VCALENDAR
PRODID:-//github.com/ical-org/ical.net//NONSGML ical.net 4.0//EN
VERSION:2.0
BEGIN:VEVENT
DESCRIPTION:Immersive Pilates is a communal movement experience where ligh
 t\, sound\, and space work together to help you slow down and reconnect w
 ith your body and your inner balance.\nIt’s not just a workout—it’s a sta
 te of being you arrive at.
DTEND:20260525T173000Z
DTSTAMP:20260420T162320Z
DTSTART:20260420T163000Z
SEQUENCE:0
SUMMARY:Body in Light – Immersive Pilates
UID:03f4a167-9dfb-45c0-8f7b-733bd1ffaba6
END:VEVENT
END:VCALENDAR
