BEGIN:VCALENDAR
PRODID:-//github.com/ical-org/ical.net//NONSGML ical.net 4.0//EN
VERSION:2.0
BEGIN:VEVENT
DESCRIPTION:Speed\, panoramic views\, and adventure all in one place! Bala
 toniBob in Balatonfűzfő welcomes the whole family with two thrilling bobs
 led tracks and a variety of active programs.
DTEND;VALUE=DATE:20261130
DTSTAMP:20260420T162638Z
DTSTART;VALUE=DATE:20260101
GEO:47.070775;18.024042
LOCATION:BalatoniBob Leisure Park\nBalatonfűzfő\, Fűzfőgyártelep\, Fűzfő t
 ér
SEQUENCE:0
SUMMARY:BalatoniBob – A Full-Day Adventure in Balatonfűzfő
UID:19e02609-754e-4852-becd-19a30d1d887e
END:VEVENT
END:VCALENDAR
