BEGIN:VCALENDAR
PRODID:-//github.com/ical-org/ical.net//NONSGML ical.net 4.0//EN
VERSION:2.0
BEGIN:VEVENT
DESCRIPTION:Conditional development\, during which we break away from the 
 daily rush and stress with relaxed but strengthening\, body-shaping movem
 ents set to music.
DTEND;VALUE=DATE:20260531
DTSTAMP:20260420T162921Z
DTSTART;VALUE=DATE:20260202
GEO:47.081003;18.028575
LOCATION:Balaton Swimming Pool\nBalatonfűzfő\, Fűzfőgyártelep
SEQUENCE:0
SUMMARY:Aquafitness - Balaton swimming pool\, Balatonfűzfő
UID:28e6b673-f3e6-475a-bfb1-c84fda20a160
END:VEVENT
END:VCALENDAR
