BEGIN:VCALENDAR
PRODID:-//github.com/ical-org/ical.net//NONSGML ical.net 4.0//EN
VERSION:2.0
BEGIN:VEVENT
DESCRIPTION:Available all year round\, fun and educational programs in Bad
 acsonyörs: arboretum walks\, discovery games\, exhibitions\, and evening 
 light painting.
DTEND;VALUE=DATE:20270131
DTSTAMP:20260420T162755Z
DTSTART;VALUE=DATE:20260224
SEQUENCE:0
SUMMARY:Permanent programs at Folly Arboretum
UID:cb4f95e0-ea70-4464-b326-8bea26f2f206
END:VEVENT
END:VCALENDAR
