BEGIN:VCALENDAR
PRODID:-//github.com/ical-org/ical.net//NONSGML ical.net 4.0//EN
VERSION:2.0
BEGIN:VEVENT
DESCRIPTION:Try it out\, choose\, and take it home right away! Premium e-b
 ike sale in Veszprém on October 25\, with great prices.
DTEND:20251025T160000Z
DTSTAMP:20260420T150623Z
DTSTART:20251025T070000Z
GEO:47.097577;17.927151
LOCATION:Balaton Bike Store\nVeszprém\, Vilonyai u. 1
SEQUENCE:0
SUMMARY:3rd BBT PopUp Bike Outlet: Used eBike sale in Veszprém!
UID:c544e47c-6ed1-4387-8f85-d059222b4670
END:VEVENT
END:VCALENDAR
